BEGIN:VCALENDAR
VERSION:2.0
PRODID:-//Rudolf Steiner-Schule Nürnberg - ECPv6.15.20//NONSGML v1.0//EN
CALSCALE:GREGORIAN
METHOD:PUBLISH
X-WR-CALNAME:Rudolf Steiner-Schule Nürnberg
X-ORIGINAL-URL:https://www.waldorfschule-nuernberg.de
X-WR-CALDESC:Veranstaltungen für Rudolf Steiner-Schule Nürnberg
REFRESH-INTERVAL;VALUE=DURATION:PT1H
X-Robots-Tag:noindex
X-PUBLISHED-TTL:PT1H
BEGIN:VTIMEZONE
TZID:Europe/Berlin
BEGIN:DAYLIGHT
TZOFFSETFROM:+0100
TZOFFSETTO:+0200
TZNAME:CEST
DTSTART:20250330T010000
END:DAYLIGHT
BEGIN:STANDARD
TZOFFSETFROM:+0200
TZOFFSETTO:+0100
TZNAME:CET
DTSTART:20251026T010000
END:STANDARD
BEGIN:DAYLIGHT
TZOFFSETFROM:+0100
TZOFFSETTO:+0200
TZNAME:CEST
DTSTART:20260329T010000
END:DAYLIGHT
BEGIN:STANDARD
TZOFFSETFROM:+0200
TZOFFSETTO:+0100
TZNAME:CET
DTSTART:20261025T010000
END:STANDARD
BEGIN:DAYLIGHT
TZOFFSETFROM:+0100
TZOFFSETTO:+0200
TZNAME:CEST
DTSTART:20270328T010000
END:DAYLIGHT
BEGIN:STANDARD
TZOFFSETFROM:+0200
TZOFFSETTO:+0100
TZNAME:CET
DTSTART:20271031T010000
END:STANDARD
END:VTIMEZONE
BEGIN:VEVENT
DTSTART;TZID=Europe/Berlin:20260424T190000
DTEND;TZID=Europe/Berlin:20260424T210000
DTSTAMP:20260424T114009
CREATED:20260416T103156Z
LAST-MODIFIED:20260416T103156Z
UID:16472-1777057200-1777064400@www.waldorfschule-nuernberg.de
SUMMARY:Klassenspiel 8b: "Das Haus der Temperamente"
DESCRIPTION:“Das Haus der Temperamente”\nKlassenspiel der 8b \nTermine: \nFreitag\, 24.4.2026 / 19.00 Uhr\nSamstag\, 25.4.2026 / 17.00 Uhr
URL:https://www.waldorfschule-nuernberg.de/termin/klassenspiel-8b-das-haus-der-temperamente/
END:VEVENT
END:VCALENDAR